BEGIN:VCALENDAR
VERSION:2.0
PRODID:-//eventon.com NONSGML v1.0//EN
CALSCALE:GREGORIAN
METHOD:PUBLISH
BEGIN:VEVENT
UID:69e7a8a546140
DTSTAMP:20260421T164109
DTSTART:20240926T130000Z
DTEND:20240926T235900Z
TZID:Etc/Greenwich
LOCATION:
SUMMARY:5 Ways to Beauty (Redditch) - Provided by Adult Learning Worcestershire
DESCRIPTION:Get Creative with our 5 Ways To Beauty in your neighbourhood. This is a great chance to find out different types of beauty treatments\,  which you&#8217;ll discover with other people from your neighbourhood. It&#8217;s a great taster and an introduction to a fantastic industry. No two weeks are the same[..]\nhttps://www.hwwellbeingandrecoverycollege.org.uk/events/5-ways-to-beauty-redditch-provided-by-adult-learning-worcestershire/
URL:https://www.hwwellbeingandrecoverycollege.org.uk/events/5-ways-to-beauty-redditch-provided-by-adult-learning-worcestershire/
END:VEVENT
END:VCALENDAR