BEGIN:VCALENDAR
VERSION:2.0
PRODID:-//eventon.com NONSGML v1.0//EN
CALSCALE:GREGORIAN
METHOD:PUBLISH
BEGIN:VEVENT
UID:69ea407b6927e
DTSTAMP:20260423T155331
DTSTART:20250217T140000Z
DTEND:20250217T160000Z
TZID:Etc/Greenwich
LOCATION:1
SUMMARY:Trauma Informed Approach Training - Provided by South Warwickshire and Worcestershire Mind
DESCRIPTION:Are you a Support Worker? Nurse? Teacher? If you work with people\,  our Trauma-informed awareness refers to an approach that recognises and responds to the impact of trauma on individuals. Trauma Informed Approach Training &#8211; Course Description Trauma-informed awareness refers to an approach that recognises and responds to the impact[..]\nhttps://www.hwwellbeingandrecoverycollege.org.uk/events/trauma-informed-approach-training-provided-by-south-warwickshire-and-worcestershire-mind/
URL:https://www.hwwellbeingandrecoverycollege.org.uk/events/trauma-informed-approach-training-provided-by-south-warwickshire-and-worcestershire-mind/
END:VEVENT
END:VCALENDAR